BEGIN:VCALENDAR
PRODID:-//github.com/rianjs/ical.net//NONSGML ical.net 4.0//EN
VERSION:2.0
BEGIN:VTIMEZONE
TZID:Pacific Standard Time
X-LIC-LOCATION:America/Los_Angeles
BEGIN:STANDARD
DTSTART:20241103T020000
RRULE:FREQ=YEARLY;BYDAY=1SU;BYMONTH=11
TZNAME:PST
TZOFFSETFROM:-0700
TZOFFSETTO:-0800
END:STANDARD
BEGIN:DAYLIGHT
DTSTART:20250309T020000
RRULE:FREQ=YEARLY;BYDAY=2SU;BYMONTH=3
TZNAME:PDT
TZOFFSETFROM:-0800
TZOFFSETTO:-0700
END:DAYLIGHT
END:VTIMEZONE
BEGIN:VEVENT
DESCRIPTION:First Freeway Series Game!
DTEND;TZID=Pacific Standard Time:20260515T213000
DTSTAMP:20260420T075525Z
DTSTART;TZID=Pacific Standard Time:20260515T163000
LOCATION:Apartment Association of Orange County 1601 East Orangewood Avenu
 e Anaheim\, CA 92805-6810 United States
ORGANIZER;CN=;SENT-BY="mailto:":
SEQUENCE:0
SUMMARY:AAOC: Angels Baseball Night & Tailgate
UID:661e0249-2024-4b74-bbe0-30b22173cca6
END:VEVENT
END:VCALENDAR
